BEGIN:VCALENDAR
VERSION:2.0
PRODID:GlueUp
CALSCALE:GREGORIAN
BEGIN:VTIMEZONE
TZID:UTC
BEGIN:STANDARD
DTSTART:19700101T000000
TZOFFSETFROM:+0000
TZOFFSETTO:+0000
TZNAME:UTC
END:STANDARD
END:VTIMEZONE
BEGIN:VEVENT
TZ:+00
ORGANIZER;CN=Зимина Ирина:MAILTO:assistant@spiba.ru
UID:4361-1776847379@https://spiba.glueup.ru
DTSTAMP:20260422T084259Z
DTSTART:20240913T063000Z
DTEND:20240913T090000Z
SUMMARY:The Anatomy of Stress in Megapolis Life: Energy Boost or Hidden Danger? Should You Harness It or Escape It?
DESCRIPTION:The Anatomy of Stress in Megapolis Life: Energy Boost or Hidden Danger? Should You Harness It or Escape It? by The St. Petersburg International Business Association (SPIBA)\n\nSep 13, 2024 (09:30 - 12:00)(GMT+3)\n\nFor more information, click here: https://spiba.glueup.ru/my/events/4361
LOCATION: - Russian Federation
BEGIN:VALARM
TRIGGER:-PT48H
REPEAT:4
DURATION:PT30M
ACTION:DISPLAY
END:VALARM
END:VEVENT
END:VCALENDAR