BEGIN:VCALENDAR
VERSION:2.0
PRODID:GlueUp
CALSCALE:GREGORIAN
BEGIN:VTIMEZONE
TZID:UTC
BEGIN:STANDARD
DTSTART:19700101T000000
TZOFFSETFROM:+0000
TZOFFSETTO:+0000
TZNAME:UTC
END:STANDARD
END:VTIMEZONE
BEGIN:VEVENT
TZ:+00
ORGANIZER;CN=Manager PR:MAILTO:pr@spiba.ru
UID:4568-1776944785@https://spiba.glueup.ru
DTSTAMP:20260423T114625Z
DTSTART:20241221T150000Z
DTEND:20241221T180000Z
SUMMARY:"Cultural Promenade" for the exhibition "The Great Karl. On the 225th Anniversary of K.P. Bryullov's Birth"
DESCRIPTION:"Cultural Promenade" for the exhibition "The Great Karl. On the 225th Anniversary of K.P. Bryullov's Birth" by The St. Petersburg International Business Association (SPIBA)\n\nDec 21, 2024 (18:00 - 21:00)(GMT+3)\n\nFor more information, click here: https://spiba.glueup.ru/my/events/4568
LOCATION:Russian Museum, Mikhailovskiy Palace - Inzhenernaya ul. - 4 Saint Petersburg - Russian Federation
BEGIN:VALARM
TRIGGER:-PT48H
REPEAT:4
DURATION:PT30M
ACTION:DISPLAY
END:VALARM
END:VEVENT
END:VCALENDAR