BEGIN:VCALENDAR
VERSION:2.0
PRODID:GlueUp
CALSCALE:GREGORIAN
BEGIN:VTIMEZONE
TZID:UTC
BEGIN:STANDARD
DTSTART:19700101T000000
TZOFFSETFROM:+0000
TZOFFSETTO:+0000
TZNAME:UTC
END:STANDARD
END:VTIMEZONE
BEGIN:VEVENT
TZ:+00
ORGANIZER;CN=Manager PR:MAILTO:pr@spiba.ru
UID:4789-1776848139@https://spiba.glueup.ru
DTSTAMP:20260422T085539Z
DTSTART:20250404T070000Z
DTEND:20250404T083000Z
SUMMARY:Effective ways to retain, motivate staff, reduce turnover and methods of non-material incentives
DESCRIPTION:Effective ways to retain, motivate staff, reduce turnover and methods of non-material incentives by The St. Petersburg International Business Association (SPIBA)\n\nApr 4, 2025 (10:00 - 11:30)(GMT+3)\n\nFor more information, click here: https://spiba.glueup.ru/my/events/4789
LOCATION:Expoforum - Peterburgskoe shosse - 64 k. 1 Saint Petersburg - Russian Federation
BEGIN:VALARM
TRIGGER:-PT48H
REPEAT:4
DURATION:PT30M
ACTION:DISPLAY
END:VALARM
END:VEVENT
END:VCALENDAR