BEGIN:VCALENDAR
VERSION:2.0
PRODID:GlueUp
CALSCALE:GREGORIAN
BEGIN:VTIMEZONE
TZID:UTC
BEGIN:STANDARD
DTSTART:19700101T000000
TZOFFSETFROM:+0000
TZOFFSETTO:+0000
TZNAME:UTC
END:STANDARD
END:VTIMEZONE
BEGIN:VEVENT
TZ:+00
ORGANIZER;CN=Manager PR:MAILTO:pr@spiba.ru
UID:4914-1776760935@https://spiba.glueup.ru
DTSTAMP:20260421T084215Z
DTSTART:20250603T130000Z
DTEND:20250603T150000Z
SUMMARY:Brandformance Marketing: How to Sit on Two Chairs and Simultaneously Grow Sales and Recognition
DESCRIPTION:Brandformance Marketing: How to Sit on Two Chairs and Simultaneously Grow Sales and Recognition by The St. Petersburg International Business Association (SPIBA)\n\nJun 3, 2025 (16:00 - 18:00)(GMT+3)\n\nFor more information, click here: https://spiba.glueup.ru/my/events/4914
LOCATION:Molinos office, BC Tesla - 24th line of Vasilievsky Island - 15/2 - St. Petersburg - floor 7 St. Petersburg - Russian Federation
BEGIN:VALARM
TRIGGER:-PT48H
REPEAT:4
DURATION:PT30M
ACTION:DISPLAY
END:VALARM
END:VEVENT
END:VCALENDAR