BEGIN:VCALENDAR
VERSION:2.0
PRODID:GlueUp
CALSCALE:GREGORIAN
BEGIN:VTIMEZONE
TZID:UTC
BEGIN:STANDARD
DTSTART:19700101T000000
TZOFFSETFROM:+0000
TZOFFSETTO:+0000
TZNAME:UTC
END:STANDARD
END:VTIMEZONE
BEGIN:VEVENT
TZ:+00
ORGANIZER;CN=Зимина Ирина:MAILTO:assistant@spiba.ru
UID:3647-1776856256@https://spiba.glueup.ru
DTSTAMP:20260422T111056Z
DTSTART:20231017T070000Z
DTEND:20231017T090000Z
SUMMARY:Meeting with the Representatives of St. Petersburg Office of the Federal Antimonopoly Service
DESCRIPTION:Meeting with the Representatives of St. Petersburg Office of the Federal Antimonopoly Service by The St. Petersburg International Business Association (SPIBA)\n\nOct 17, 2023 (10:00 - 12:00)(GMT+3)\n\nFor more information, click here: https://spiba.glueup.ru/my/events/3647
LOCATION:"Dom Mertensa" Business Center - 21 Nevskiy Avenue St Petersburg - Russian Federation
BEGIN:VALARM
TRIGGER:-PT48H
REPEAT:4
DURATION:PT30M
ACTION:DISPLAY
END:VALARM
END:VEVENT
END:VCALENDAR