BEGIN:VCALENDAR
VERSION:2.0
PRODID:GlueUp
CALSCALE:GREGORIAN
BEGIN:VTIMEZONE
TZID:UTC
BEGIN:STANDARD
DTSTART:19700101T000000
TZOFFSETFROM:+0000
TZOFFSETTO:+0000
TZNAME:UTC
END:STANDARD
END:VTIMEZONE
BEGIN:VEVENT
TZ:+00
ORGANIZER;CN=Manager PR:MAILTO:pr@spiba.ru
UID:4879-1776766482@https://spiba.glueup.ru
DTSTAMP:20260421T101442Z
DTSTART:20250515T070000Z
DTEND:20250515T090000Z
SUMMARY:Global Business Horizons: Asia
DESCRIPTION:Global Business Horizons: Asia by The St. Petersburg International Business Association (SPIBA)\n\nMay 15, 2025\n10:00 AM - 12:00 PM(GMT+3)\n\nFor more information and to attend the online event, click here:\n\nEvent Website: https://spiba.glueup.ru/my/events/4879\n\nEvent Link: https://us06web.zoom.us/j/89427340261?pwd=rHRQWyrnykMa4QMY7smFcmmPJlNbNL.1
LOCATION:https://us06web.zoom.us/j/89427340261?pwd=rHRQWyrnykMa4QMY7smFcmmPJlNbNL.1
BEGIN:VALARM
TRIGGER:-PT1H
REPEAT:4
DURATION:PT15M
ACTION:DISPLAY
END:VALARM
END:VEVENT
END:VCALENDAR