BEGIN:VCALENDAR
VERSION:2.0
PRODID:GlueUp
CALSCALE:GREGORIAN
BEGIN:VTIMEZONE
TZID:UTC
BEGIN:STANDARD
DTSTART:19700101T000000
TZOFFSETFROM:+0000
TZOFFSETTO:+0000
TZNAME:UTC
END:STANDARD
END:VTIMEZONE
BEGIN:VEVENT
TZ:+00
ORGANIZER;CN=Manager PR:MAILTO:pr@spiba.ru
UID:4761-1776760847@https://spiba.glueup.ru
DTSTAMP:20260421T084047Z
DTSTART:20250319T070000Z
DTEND:20250319T090000Z
SUMMARY:Capital savings and investment instruments: personal funds and mutual funds
DESCRIPTION:Capital savings and investment instruments: personal funds and mutual funds by The St. Petersburg International Business Association (SPIBA)\n\nMarch 19, 2025\n10:00 AM - 12:00 PM(GMT+3)\n\nFor more information and to attend the online event, click here:\n\nEvent Website: https://spiba.glueup.ru/my/events/4761\n\nEvent Link: https://us06web.zoom.us/j/84677129684?pwd=lDktSzbzZJdUjlWMBhMnF7tiMuaD1l.1
LOCATION:https://us06web.zoom.us/j/84677129684?pwd=lDktSzbzZJdUjlWMBhMnF7tiMuaD1l.1
BEGIN:VALARM
TRIGGER:-PT1H
REPEAT:4
DURATION:PT15M
ACTION:DISPLAY
END:VALARM
END:VEVENT
END:VCALENDAR