BEGIN:VCALENDAR
VERSION:2.0
PRODID:GlueUp
CALSCALE:GREGORIAN
BEGIN:VTIMEZONE
TZID:UTC
BEGIN:STANDARD
DTSTART:19700101T000000
TZOFFSETFROM:+0000
TZOFFSETTO:+0000
TZNAME:UTC
END:STANDARD
END:VTIMEZONE
BEGIN:VEVENT
TZ:+00
ORGANIZER;CN=Гулбекова Диана:MAILTO:pr@spiba.ru
UID:4963-1776766457@https://spiba.glueup.ru
DTSTAMP:20260421T101417Z
DTSTART:20250716T153000Z
DTEND:20250716T200000Z
SUMMARY:"White Nights 2025" Boat Cruise
DESCRIPTION:"White Nights 2025" Boat Cruise by The St. Petersburg International Business Association (SPIBA)\n\nJul 16, 2025 (18:30 - 23:00)(GMT+3)\n\nFor more information, click here: https://spiba.glueup.ru/my/events/4963
LOCATION:Pier on Makarova embankment, 28 - Saint Petersburg
BEGIN:VALARM
TRIGGER:-PT48H
REPEAT:4
DURATION:PT30M
ACTION:DISPLAY
END:VALARM
END:VEVENT
END:VCALENDAR