BEGIN:VCALENDAR
VERSION:2.0
PRODID:GlueUp
CALSCALE:GREGORIAN
BEGIN:VTIMEZONE
TZID:UTC
BEGIN:STANDARD
DTSTART:19700101T000000
TZOFFSETFROM:+0000
TZOFFSETTO:+0000
TZNAME:UTC
END:STANDARD
END:VTIMEZONE
BEGIN:VEVENT
TZ:+00
ORGANIZER;CN=Manager PR:MAILTO:pr@spiba.ru
UID:5144-1776847646@https://spiba.glueup.ru
DTSTAMP:20260422T084726Z
DTSTART:20251128T063000Z
DTEND:20251128T090000Z
SUMMARY:Logistics Breakfast - Barrier-Free Trade: Accelerating International Flows
DESCRIPTION:Logistics Breakfast - Barrier-Free Trade: Accelerating International Flows by The St. Petersburg International Business Association (SPIBA)\n\nNov 28, 2025 (09:30 - 12:00)(GMT+3)\n\nFor more information, click here: https://spiba.glueup.ru/my/events/5144
LOCATION: - Russian Federation
BEGIN:VALARM
TRIGGER:-PT48H
REPEAT:4
DURATION:PT30M
ACTION:DISPLAY
END:VALARM
END:VEVENT
END:VCALENDAR