BEGIN:VCALENDAR
VERSION:2.0
PRODID:GlueUp
CALSCALE:GREGORIAN
BEGIN:VTIMEZONE
TZID:UTC
BEGIN:STANDARD
DTSTART:19700101T000000
TZOFFSETFROM:+0000
TZOFFSETTO:+0000
TZNAME:UTC
END:STANDARD
END:VTIMEZONE
BEGIN:VEVENT
TZ:+00
ORGANIZER;CN=Зимина Ирина:MAILTO:assistant@spiba.ru
UID:5395-1776637195@https://spiba.glueup.ru
DTSTAMP:20260419T221955Z
DTSTART:20260402T120000Z
DTEND:20260402T130000Z
SUMMARY:Working meeting on the volunteer campaign against hogweed
DESCRIPTION:Working meeting on the volunteer campaign against hogweed by The St. Petersburg International Business Association (SPIBA)\n\nApril 2, 2026\n3:00 PM - 4:00 PM(GMT+3)\n\nFor more information and to attend the online event, click here:\n\nEvent Website: https://spiba.glueup.ru/my/events/5395\n\nEvent Link: https://spiba.ktalk.ru/rncgrvls36e5
LOCATION:https://spiba.ktalk.ru/rncgrvls36e5
BEGIN:VALARM
TRIGGER:-PT1H
REPEAT:4
DURATION:PT15M
ACTION:DISPLAY
END:VALARM
END:VEVENT
END:VCALENDAR