BEGIN:VCALENDAR
VERSION:2.0
PRODID:GlueUp
CALSCALE:GREGORIAN
BEGIN:VTIMEZONE
TZID:UTC
BEGIN:STANDARD
DTSTART:19700101T000000
TZOFFSETFROM:+0000
TZOFFSETTO:+0000
TZNAME:UTC
END:STANDARD
END:VTIMEZONE
BEGIN:VEVENT
TZ:+00
ORGANIZER;CN=Зимина Ирина:MAILTO:assistant@spiba.ru
UID:5455-1776865862@https://spiba.glueup.ru
DTSTAMP:20260422T135102Z
DTSTART:20260428T130000Z
DTEND:20260428T150000Z
SUMMARY:Что может HR-бренд?
DESCRIPTION:Что может HR-бренд? by The St. Petersburg International Business Association (SPIBA)\n\nApr 28, 2026 (16:00 - 18:00)(GMT+3)\n\nFor more information, click here: https://spiba.glueup.ru/my/events/5455
LOCATION:Indigo St. Petersburg Hotel - улица Чайковского 17 Санкт-Петербург - Russian Federation
BEGIN:VALARM
TRIGGER:-PT48H
REPEAT:4
DURATION:PT30M
ACTION:DISPLAY
END:VALARM
END:VEVENT
END:VCALENDAR