BEGIN:VCALENDAR
VERSION:2.0
PRODID:GlueUp
CALSCALE:GREGORIAN
BEGIN:VTIMEZONE
TZID:UTC
BEGIN:STANDARD
DTSTART:19700101T000000
TZOFFSETFROM:+0000
TZOFFSETTO:+0000
TZNAME:UTC
END:STANDARD
END:VTIMEZONE
BEGIN:VEVENT
TZ:+00
ORGANIZER;CN=Зимина Ирина:MAILTO:assistant@spiba.ru
UID:5401-1776637332@https://spiba.glueup.ru
DTSTAMP:20260419T222212Z
DTSTART:20260402T070000Z
DTEND:20260402T090000Z
SUMMARY:Юридический дискуссионный клуб
DESCRIPTION:"Юридический дискуссионный клуб" организовано "Санкт-Петербургская Международная Бизнес-Ассоциация (СПИБА)"\n\nАпр 2 2026 (10:00 - 12:00)(GMT+3)\n\nДля получения дополнительной информации нажмите здесь: https://spiba.glueup.ru/my/events/5401
LOCATION:БЦ "Дом Мертенса", 6 этаж, офис 506 - Невский проспект 21 Санкт-Петербург - Российская Федерация
BEGIN:VALARM
TRIGGER:-PT48H
REPEAT:4
DURATION:PT30M
ACTION:DISPLAY
END:VALARM
END:VEVENT
END:VCALENDAR